BEGIN:VCALENDAR
VERSION:2.0
PRODID:-//pretix//pretix.eu//
BEGIN:VTIMEZONE
TZID:Europe/Berlin
BEGIN:STANDARD
DTSTART:20001029T040000
RRULE:FREQ=YEARLY;BYDAY=-1SU;BYMONTH=10
TZNAME:CET
TZOFFSETFROM:+0200
TZOFFSETTO:+0100
END:STANDARD
BEGIN:DAYLIGHT
DTSTART:20000326T030000
RRULE:FREQ=YEARLY;BYDAY=-1SU;BYMONTH=3
TZNAME:CEST
TZOFFSETFROM:+0100
TZOFFSETTO:+0200
END:DAYLIGHT
END:VTIMEZONE
BEGIN:VEVENT
UID:pretix-schuetzengau-freising-vt-schlagergaudi-4570984@schuetzengau-frei
 sing.vereinsticket.de
DTSTART;TZID=Europe/Berlin:20250711T200000
DTEND;TZID=Europe/Berlin:20250711T210000
DESCRIPTION:Tickets: https://schuetzengau-freising.vereinsticket.de/vt-schl
 agergaudi/4570984/\nVeranstalter: Sportschützengau Freising im BSSB e.V.
DTSTAMP:20260420T001602Z
LOCATION:Hopfenhalle Nandlstadt\, Bahnhofstraße 6\, 85405 Nandlstadt
SUMMARY:Schlager GAUdi
END:VEVENT
END:VCALENDAR
